BEGIN:VCALENDAR
VERSION:2.0
PRODID:
CALSCALE:GREGORIAN
METHOD:PUBLISH
BEGIN:VTIMEZONE
TZID:Europe/Zurich
BEGIN:STANDARD
DTSTART:19691231T230000
TZOFFSETTO:+0100
TZOFFSETFROM:+0100
END:STANDARD
END:VTIMEZONE
BEGIN:VEVENT
UID:99
DTSTART:20211120T213000
DTEND:20211121T020000
STATUS:
SUMMARY:JAZZ NIGHT ADV présente l&#39;incroyable quartet  BAUD – S
 PANYI – SZANDAI – CHRISTE 4tet

Ouverture des portes : 21:00


 Concert: 21:30 

Entrée: 10-

Le quartet, formé à la base pour
  une date unique en avril 2021 au jazz club Chorus de Lausanne, se ré
 unit à nouveau pour un concert exceptionnel à l’Auberge des Verger
 s. Composé d’Emil Spanyi (piano), Jeff Baud (trompette), Matyas Sz
 andai (contrebasse) et François Christe (batterie), ces 4 musiciens i
 nterpréteront des standards de jazz qui leurs sont chers.

(Le conc
 ert sera également diffusé en live stream sur notre chaîne youtube)
 

Bienvenues à toutes et à tous
DESCRIPTION:
GEO:46.232146;6.072192
URL:https://beta.aubergedesvergers.ch/evenements/99/baud-spanyi-szanda
 i-christe-4tet
DTSTAMP:20260419T163230Z
ORGANIZER;CN=Culture Auberge des Vergers;LANGUAGE=fr:mailto:culture@au
 bergedesvergers.ch
END:VEVENT
END:VCALENDAR
