BEGIN:VCALENDAR
VERSION:2.0
PRODID:
CALSCALE:GREGORIAN
METHOD:PUBLISH
BEGIN:VTIMEZONE
TZID:Europe/Zurich
BEGIN:STANDARD
DTSTART:19691231T230000
TZOFFSETTO:+0100
TZOFFSETFROM:+0100
END:STANDARD
END:VTIMEZONE
BEGIN:VEVENT
UID:44
DTSTART:20210520T210000
DTEND:20210520T230000
STATUS:
SUMMARY:Les Jam night, c&#39;est une scène libre ou tout musicien de 
 tous niveaux/styles est le bienvenu à partager ce qu&#39;il a dans le
  cœur. Le tout dans une ambiance intimiste! Prends ton instrument pr
 éféré et viens profiter d&#39;un verre offert pour ta participation
  Tu peux bien évidemment simplement soutenir la Jam Night et écouter
  des artistes locaux et passionnés. ? Soutenez-vous les uns les autre
 s de façon constructive. La musique n&#39;en sera que plus belle. On 
 vous souhaite une très belle soirée de partage en notre compagnie!
DESCRIPTION:
GEO:46.232146;6.072192
URL:https://beta.aubergedesvergers.ch/evenements/44/jam-night-alex-ald
 ridge-4
DTSTAMP:20260419T162531Z
ORGANIZER;CN=Culture Auberge des Vergers;LANGUAGE=fr:mailto:culture@au
 bergedesvergers.ch
END:VEVENT
END:VCALENDAR
