BEGIN:VCALENDAR
VERSION:2.0
PRODID:
CALSCALE:GREGORIAN
METHOD:PUBLISH
BEGIN:VTIMEZONE
TZID:Europe/Zurich
BEGIN:STANDARD
DTSTART:19691231T230000
TZOFFSETTO:+0100
TZOFFSETFROM:+0100
END:STANDARD
END:VTIMEZONE
BEGIN:VEVENT
UID:99
DTSTART:20211120T213000
DTEND:20211121T020000
STATUS:
SUMMARY:JAZZ NIGHT ADV presents the incredible quartet 

BAUD - SPA
 NYI - SZANDAI - CHRISTE 4tet

Doors open: 21:00

Concert: 21:30 
 

Admission: 10-

The quartet, originally formed for a one-off date
  in April 2021 at the Chorus jazz club in Lausanne, will meet again fo
 r an exceptional concert at the Auberge des Vergers. Composed of Emil 
 Spanyi (piano), Jeff Baud (trumpet), Matyas Szandai (double bass) and 
 François Christe (drums), these four musicians will perform jazz stan
 dards that are dear to them.

(The concert will also be streamed liv
 e on our youtube channel)

Welcome to all of you

 
DESCRIPTION:
GEO:46.232146;6.072192
URL:https://beta.aubergedesvergers.ch/events/99/baud-spanyi-szandai-ch
 riste-4tet-1
DTSTAMP:20260419T181853Z
ORGANIZER;CN=Culture Auberge des Vergers;LANGUAGE=fr:mailto:culture@au
 bergedesvergers.ch
END:VEVENT
END:VCALENDAR
