BEGIN:VCALENDAR
VERSION:2.0
PRODID:
CALSCALE:GREGORIAN
METHOD:PUBLISH
BEGIN:VTIMEZONE
TZID:Europe/Zurich
BEGIN:STANDARD
DTSTART:19691231T230000
TZOFFSETTO:+0100
TZOFFSETFROM:+0100
END:STANDARD
END:VTIMEZONE
BEGIN:VEVENT
UID:71
DTSTART:20210711T200000
DTEND:20210711T233000
STATUS:
SUMMARY:Big screen broadcast at the Auberge of the Euro final

ITALY
  vs ENGLAND

9 p.m. - Sunday July 11

Put on your best shoes, take
  off the crampons and come share this moment with us!

Shirts, flags
 , rock paintings and other accessories highly recommended!

 

Fo
 r a better organization, register on our website
DESCRIPTION:
GEO:46.232146;6.072192
URL:https://beta.aubergedesvergers.ch/events/71/big-screen-broadcast-a
 t-the-auberge-of-the-euro-final
DTSTAMP:20260419T161450Z
ORGANIZER;CN=Culture Auberge des Vergers;LANGUAGE=fr:mailto:culture@au
 bergedesvergers.ch
END:VEVENT
END:VCALENDAR
