BEGIN:VCALENDAR
VERSION:2.0
PRODID:
CALSCALE:GREGORIAN
METHOD:PUBLISH
BEGIN:VTIMEZONE
TZID:Europe/Zurich
BEGIN:STANDARD
DTSTART:19691231T230000
TZOFFSETTO:+0100
TZOFFSETFROM:+0100
END:STANDARD
END:VTIMEZONE
BEGIN:VEVENT
UID:104
DTSTART:20210924T173000
DTEND:20210924T200000
STATUS:
SUMMARY:DOORS OPEN: 17:30 MASTERCLASS: 18:00

PLACE: CULTURAL ROOM A
 DMISSION: 15 Francs (Under 18 and students: 10 Francs)

During the m
 asterclass on Friday 24 September 2021, Federico Toledano will firstly
  discuss the different techniques specific to the flamenco guitar and,
  secondly, certain palos, in order to better understand the compas and
  their harmonies. To illustrate the rhythmic part of the examples he w
 ill use the support of percussionist Ángel Sánchez Cepillo.

Music
 ians from all walks of life are welcome.

FREDERIC TOLEDANO

Durin
 g his many trips to Andalusia, where his family is originally from, th
 e flamenco guitarist Federico Toledano has perfected his skills with g
 uitarists such as Gerardo Nuñez, Manolo Sanlúcar and Juan Manuel Ca
 ñizares. Today he offers a varied repertoire where tradition and per
 onal compositions alternate in the different palos as well as a repert
 oire mixing jazz flamenco standards and festive rumbas. He is accompan
 ied on the cajon by percussionist Angel Sanchez "Cepillo", with whom h
 e has already shared numerous jams and fiestas, notably in Sanlúcar d
 e Barrameda.

Federico plays flamenco guitars made by his father Jos
 é Toledano and himself.

ANGEL SANCHEZ "CEPILLO

The percussionis
 t Ángel Sánchez González, alias Cepillo, has become one of the most
  important accompanists of the best flamenco musicians and shows of to
 day. He was born in Sanlúcar de Barrameda (province of Cadiz, Spain).
  Since his early years, he has played with flamenco, rock, jazz fusion
  and Brazilian musicians and bands. He regularly accompanies renowned 
 artists such as Gerardo Núñez, Manolo Sanlúcar, Tomatito, Duquende,
  Carmen Linares, Rafael Riqueni, Esperanza Fernández, Vicente Amigo, 
 Tino di Geraldo, Perico Sambeat, Michael Brecker, Renaud Garcia-Fons a
 nd Zakir Hussain, among others. Cepillo performs throughout Spain and 
 appears in the best venues and festivals in Spain and abroad.

 
DESCRIPTION:
GEO:46.232146;6.072192
URL:https://beta.aubergedesvergers.ch/events/104/masterclass-with-fred
 eric-toledano-angel-sanchez-cepillo
DTSTAMP:20260419T162150Z
ORGANIZER;CN=Culture Auberge des Vergers;LANGUAGE=fr:mailto:culture@au
 bergedesvergers.ch
END:VEVENT
END:VCALENDAR
