BEGIN:VCALENDAR
VERSION:2.0
PRODID:
CALSCALE:GREGORIAN
METHOD:PUBLISH
BEGIN:VTIMEZONE
TZID:Europe/Zurich
BEGIN:STANDARD
DTSTART:19691231T230000
TZOFFSETTO:+0100
TZOFFSETFROM:+0100
END:STANDARD
END:VTIMEZONE
BEGIN:VEVENT
UID:128
DTSTART:20211021T173000
DTEND:20211023T235900
STATUS:
SUMMARY:SAMOIS-SUR-SUISSE *** MASTERCLASS *** NICULESCU, ESCOUDÉ, GIN
 IAUX, LEVASSEURSAMOIS-SUR-SUISSE *** MASTERCLASS *** NICULESCU, ESCOUD
 É, GINIAUX, LEVASSEUR

Here is the programme of workshops and maste
 rclasses that will take place during Samois sur Suisse. Registrations 
 can only be made by email to advculture@gmail.com Please also specif
 y the masterclass(es) or workshop(s) you wish to attend.

DAMIEN LEV
 ASSEUR

21/10

Guitar workshop "Rhythmic improvement in accompanim
 ent and solo".

Place: Auberge des Vergers

Time: from 6pm to 8pm
 

Price: 20.00

Public: Guitarists

Role of the accompanist and t
 he soloist, concept of swing, work on nuances and enrichments in rhyth
 m and solo, concept of substitution, harmony, application on a standar
 d of the students&#39; choice, organization of personal work, question
  sessions...

Damien Levasseur was born in Montreal in 1990. At the 
 age of 14, Damien discovered his passion for the music of the great Dj
 ango Reinhardt. Without wasting any time, he started to learn the subt
 leties of this mythical style called Gypsy Jazz. At 16, Damien met Lou
  Boustani and joined the Maânouche swing group with whom he recorded 
 two albums. In 2007, he won the 1st prize at the Montreal Jazz Festiva
 l competition and in 2010 the Montreal Guitar Grand Prize. From the au
 thentic sound of Django to the modern approach of Bireli Lagrene, insp
 ired by the creative improvisations of John Coltrane, the influences a
 re endless for this young guitarist. Damien formed the group Tchabadjo
  with Charles Fréchette with whom he recorded several albums and tour
 ed in Europe and the Americas. He is also a teacher for the Django in 
 June festival.


FLORIN NICULESCU & CHRISTIAN ESCOUDÉ

22/10


 Masterclass "Django and Stéphane

Place: Auberge des Vergers

Tim
 e: from 5.30 pm to 7 pm

Price: 15.00

Public: All instrumentalist
 s

The mythical duo Django Reinhardt/Stéphane Grappelli left a last
 ing impression on the history of 20th century jazz, particularly withi
 n the famous Quintet of the Hot Club de France. Come and discover the 
 secrets of this alchemy with two of the most worthy representatives of
  this French-style jazz known as gypsy jazz...

Florin Niculescu is 
 today one of the major virtuoso violinists on the international scene.
  He has developed his own sound and a unique language, thanks to his s
 olid classical training but also to the experience of his many musical
  collaborations with the greatest musicians. His irreproachable violin
  technique and phenomenal virtuosity, admired by all, musicians and li
 steners alike, are never an end in themselves for him but rather the m
 eans to express his musical personality

https://www.florin-niculesc
 u.com/

Born in 1947, Christian Escoudé fell into the jazz cauldron
  as a child. A professional musician at the age of 15, he joined a num
 ber of bands from 1972 onwards and played successively with Michel Por
 tal, Michel Graillier, Martial Solal, John Lewis, Didier Lockwood, Phi
 lip Catherine and Jean-Michel Pilc. Founder of the Trio Gitan, Gipsy T
 rio and Nouveau Trio Gitan, the gypsy guitarist has recorded some twen
 ty albums including A Suite for Gypsies in 1998, Ma Ya Ya in 2005 and 
 Au Bois de Mon Coeur - Christian Escoudé joue Brassens in 2011. In 20
 13, Saint-Germain-des-Prés pays tribute to the compositions of John L
 ewis and the Modern Jazz Quartet.

https://www.cristalrecords.com/ar
 tiste/christian-escoude/

SÉBASTIEN GINIAUX

23/10

Masterclass
 

Venue: Auberge des Vergers

Time: from 10.00 to 11.30 am

Pric
 e: 15.00

Public: All instrumentalists

Theme and programme: 


 Theme and programme: Relaxation, efficiency, work on tempo and body. A
 pproach to improvisation through its rhythmic vision.

"When we talk
  about jazz and improvisation, we often think of phrases, notes and me
 lody. Gypsy jazz often does not escape this narrow vision of improvisa
 tion. And yet, improvising is the beginning of music, it&#39;s music i
 n its entirety. Improvisation is therefore made up of melodies, phrase
 s, etc. but also of rhythm, space, silences, etc. The inner pulse, the
  awareness of space, and how to play with it, how all this acts on the
  body, the mind of the improviser, these are some of the questions I w
 ill answer during this workshop.

BIOGRAPHY - SEBASTIEN GINIAUX


 Born in 1981, guitarist, cellist, composer, arranger and painter, Séb
 astien Giniaux is today one of the leading musicians of the French jaz
 z guitar scene, internationally recognized as one of the great interpr
 eters of the gypsy jazz style.
    Sébastien began playing the cel
 lo at the age of six at the Bourg-la-Reine Conservatory, then continue
 d his classical music studies at the Boulogne and Aubervilliers-la Cou
 rneuve Conservatories.
At the age of eighteen, he took up the guitar 
 and taught himself the instrument. His first influence was the music o
 f Django Reinhardt, to which he soon added the more contemporary curre
 nts of jazz, Balkan music, West African music, improvised music, etc.
 
    In 2015 he founded the duo "African Variations" with the Malian
  kora player Cherif Soumano and is also the leader of groups such as t
 he quartet "D&#39;ici-Danses" (compositions, contemporary jazz from he
 re and elsewhere, album planned for 2020), the duo "Mélodie des Chose
 s" with the guitarist Joris Viquesnel, the Balkan Project (variable ge
 ometry group, Balkan music and jazz). He accompanies the singer Paloma
  Pradal in a duet, and participates in many shows as a musician (conce
 rts, recordings, theatre, dance).
    Sébastien is also a member o
 f Richard Galliano&#39;s trio with Diego Imbert on double bass, of vio
 linist Mathias Lévy&#39;s trio with Jean-Philippe Viret, and is one o
 f the soloists of the gypsy jazz collective "Selmer 607".
    Compo
 ser and arranger for the singer Norig, he was also a member of the fam
 ous gypsy group "Taraf de Haïdouks" for five years (Maskarada record 
 on Crammed Discs).
    He is also a painter (exhibition "Vie Modern
 e" of thirty-five paintings at Frémeaux et associés in September 201
 4) and tries to understand the different artistic practices in the sen
 se of meeting, dialogue and poetry.
    Sébastien can be found on 
 some thirty records, on guitar or cello, as a performer or composer/ar
 ranger, and has been heard on stage alongside Biréli Lagrène, Didier
  Lockwood, Angelo Debarre, Anne Sila, Maxime Zampieri, Taraf de Haidou
 ks, Naissam Jalal, Toumani Diabaté, Cyrille Aimée, Stochelo Rosenber
 g, Guillaume Galienne, Michel Fau, etc.

 

DAMIEN LEVASSEUR

2
 3/10

Workshop "Play with a band

Venue: Auberge des Vergers

Ti
 me: from 2 to 4 pm

Price: 20.00

Public: All instrumentalists


 Topics: Interplay, Roles, Spontaneous arrangements, Circulation of ene
 rgy within the band, Harmonizations, Rhythmic placement and enrichment
 , 4/4, breaks, tutti...

Damien Levasseur was born in Montreal in 19
 90. At the age of 14, Damien discovered his passion for the music of t
 he great Django Reinhardt. Without wasting any time, he began to learn
  the subtleties of this mythical style called Gypsy Jazz. At 16, Damie
 n met Lou Boustani and joined the Maânouche swing group with whom he 
 recorded two albums. In 2007, he won the 1st prize at the Montreal Jaz
 z Festival competition and in 2010 the Montreal Guitar Grand Prize. Fr
 om the authentic sound of Django to the modern approach of Bireli Lagr
 ene, inspired by the creative improvisations of John Coltrane, the inf
 luences are endless for this young guitarist. Damien formed the group 
 Tchabadjo with Charles Fréchette with whom he recorded several albums
  and toured in Europe and the Americas. He is also a teacher for the D
 jango in June festival.

https://www.tchabadjo.com/
 


 
DESCRIPTION:
GEO:46.232146;6.072192
URL:https://beta.aubergedesvergers.ch/events/128/samois-sur-suisse-mas
 terclass-niculescu-escoude-giniaux-levasseur-1
DTSTAMP:20260419T174704Z
ORGANIZER;CN=Culture Auberge des Vergers;LANGUAGE=fr:mailto:culture@au
 bergedesvergers.ch
END:VEVENT
END:VCALENDAR
